BEGIN:VCALENDAR
VERSION:2.0
PRODID:-//Nelson Hall - ECPv6.15.20//NONSGML v1.0//EN
CALSCALE:GREGORIAN
METHOD:PUBLISH
X-WR-CALNAME:Nelson Hall
X-ORIGINAL-URL:https://nelsonhallelimpark.org
X-WR-CALDESC:Events for Nelson Hall
REFRESH-INTERVAL;VALUE=DURATION:PT1H
X-Robots-Tag:noindex
X-PUBLISHED-TTL:PT1H
BEGIN:VTIMEZONE
TZID:UTC
BEGIN:STANDARD
TZOFFSETFROM:+0000
TZOFFSETTO:+0000
TZNAME:UTC
DTSTART:20180101T000000
END:STANDARD
END:VTIMEZONE
BEGIN:VEVENT
DTSTART;TZID=UTC:20190324T140000
DTEND;TZID=UTC:20190324T140000
DTSTAMP:20260425T064015
CREATED:20181103T175351Z
LAST-MODIFIED:20181208T045413Z
UID:10000029-1553436000-1553436000@nelsonhallelimpark.org
SUMMARY:The Andrews Sisters: Music and Memories
DESCRIPTION:Join us in a high-energy nostalgic trip down memory lane featuring the signature sound of the Andrews Sisters! Enjoy “Boogie Woogie Bugle Boy”\, “Bei Mir Bist Du Schon”\, “Apple Blossom Time” and many more musical arrangements\nby Raymond Berg. Audiences of all ages will enjoy the chemistry and vocal harmony of singers Aimee Lee\, Kathryn\nMueller and Lisa Pallen\, thoughtfully strung together with stories and anecdotes by emcee/host Bill Arnold. \nA solid musical nostalgia trip… music still resonates today… when people hear it\, they want to move. —Kate Kompas\, SCTimes.com \nAdditional performances on Thursday\, Friday & Saturday! Select your performance when you purchase tickets below!
URL:https://nelsonhallelimpark.org/event/the-andrews-sisters-music-and-memories-sun/
LOCATION:Nelson Hall Theater\, 150 Cook Hill Road\, Cheshire\, 06410\, United States
CATEGORIES:Main Series
ATTACH;FMTTYPE=image/jpeg:https://nelsonhallelimpark.org/wp-content/uploads/2018/11/AndrewsSisters-Facebook.jpg
ORGANIZER;CN="Nelson Hall Theater":MAILTO:nelsonhall@elimpark.org
END:VEVENT
BEGIN:VEVENT
DTSTART;TZID=UTC:20190323T193000
DTEND;TZID=UTC:20190323T193000
DTSTAMP:20260425T064015
CREATED:20181103T175313Z
LAST-MODIFIED:20181208T045358Z
UID:10000028-1553369400-1553369400@nelsonhallelimpark.org
SUMMARY:The Andrews Sisters: Music and Memories
DESCRIPTION:Join us in a high-energy nostalgic trip down memory lane featuring the signature sound of the Andrews Sisters! Enjoy “Boogie Woogie Bugle Boy”\, “Bei Mir Bist Du Schon”\, “Apple Blossom Time” and many more musical arrangements\nby Raymond Berg. Audiences of all ages will enjoy the chemistry and vocal harmony of singers Aimee Lee\, Kathryn\nMueller and Lisa Pallen\, thoughtfully strung together with stories and anecdotes by emcee/host Bill Arnold. \nA solid musical nostalgia trip… music still resonates today… when people hear it\, they want to move. —Kate Kompas\, SCTimes.com \nAdditional performances on Thursday\, Friday & Sunday! Select your performance when you purchase tickets below!
URL:https://nelsonhallelimpark.org/event/the-andrews-sisters-music-and-memories-sat/
LOCATION:Nelson Hall Theater\, 150 Cook Hill Road\, Cheshire\, 06410\, United States
CATEGORIES:Main Series
ATTACH;FMTTYPE=image/jpeg:https://nelsonhallelimpark.org/wp-content/uploads/2018/11/AndrewsSisters-Facebook.jpg
ORGANIZER;CN="Nelson Hall Theater":MAILTO:nelsonhall@elimpark.org
END:VEVENT
BEGIN:VEVENT
DTSTART;TZID=UTC:20190322T140000
DTEND;TZID=UTC:20190322T193000
DTSTAMP:20260425T064015
CREATED:20181103T175239Z
LAST-MODIFIED:20190223T073441Z
UID:10000027-1553263200-1553283000@nelsonhallelimpark.org
SUMMARY:The Andrews Sisters: Music and Memories
DESCRIPTION:Join us in a high-energy nostalgic trip down memory lane featuring the signature sound of the Andrews Sisters! Enjoy “Boogie Woogie Bugle Boy”\, “Bei Mir Bist Du Schon”\, “Apple Blossom Time” and many more musical arrangements\nby Raymond Berg. Audiences of all ages will enjoy the chemistry and vocal harmony of singers Aimee Lee\, Kathryn\nMueller and Lisa Pallen\, thoughtfully strung together with stories and anecdotes by emcee/host Bill Arnold. \nA solid musical nostalgia trip… music still resonates today… when people hear it\, they want to move. —Kate Kompas\, SCTimes.com \nAdditional performances on Thursday\, Saturday & Sunday! Select your performance when you purchase tickets below!
URL:https://nelsonhallelimpark.org/event/the-andrews-sisters-music-and-memories-fri/
LOCATION:Nelson Hall Theater\, 150 Cook Hill Road\, Cheshire\, 06410\, United States
CATEGORIES:Concerts at a Glance,Main Series
ATTACH;FMTTYPE=image/jpeg:https://nelsonhallelimpark.org/wp-content/uploads/2018/11/AndrewsSisters-TV-Screen-1.jpg
ORGANIZER;CN="Nelson Hall Theater":MAILTO:nelsonhall@elimpark.org
END:VEVENT
BEGIN:VEVENT
DTSTART;TZID=UTC:20190321T140000
DTEND;TZID=UTC:20190321T140000
DTSTAMP:20260425T064015
CREATED:20181103T144901Z
LAST-MODIFIED:20181208T045327Z
UID:10000018-1553176800-1553176800@nelsonhallelimpark.org
SUMMARY:The Andrews Sisters: Music and Memories
DESCRIPTION:Join us in a high-energy nostalgic trip down memory lane featuring the signature sound of the Andrews Sisters! Enjoy “Boogie Woogie Bugle Boy”\, “Bei Mir Bist Du Schon”\, “Apple Blossom Time” and many more musical arrangements\nby Raymond Berg. Audiences of all ages will enjoy the chemistry and vocal harmony of singers Aimee Lee\, Kathryn\nMueller and Lisa Pallen\, thoughtfully strung together with stories and anecdotes by emcee/host Bill Arnold. \nA solid musical nostalgia trip… music still resonates today… when people hear it\, they want to move. —Kate Kompas\, SCTimes.com \nAdditional performances on Friday\, Saturday & Sunday! Select your performance when you purchase tickets below!
URL:https://nelsonhallelimpark.org/event/the-andrews-sisters-music-and-memories-thurs/
LOCATION:Nelson Hall Theater\, 150 Cook Hill Road\, Cheshire\, 06410\, United States
CATEGORIES:Main Series
ATTACH;FMTTYPE=image/jpeg:https://nelsonhallelimpark.org/wp-content/uploads/2018/11/AndrewsSisters-Facebook.jpg
ORGANIZER;CN="Nelson Hall Theater":MAILTO:nelsonhall@elimpark.org
END:VEVENT
END:VCALENDAR